BEGIN:VCALENDAR
VERSION:2.0
PRODID:DPCALENDAR
CALSCALE:GREGORIAN
BEGIN:VTIMEZONE
TZID:UTC
X-MICROSOFT-CDO-TZID:0
END:VTIMEZONE
X-WR-TIMEZONE:UTC
BEGIN:VEVENT
DTSTART;TZID=UTC:20171112T100000
DTEND;TZID=UTC:20171112T133000
UID:17D540CC-F00F-4F53-94F2-4398D3532EA3
SUMMARY:Rundenwettkampf in Heimsheim
CREATED:20171003T081613Z
DTSTAMP:20171003T081613Z
DESCRIPTION:Hier wird geschossen
X-ALT-DESC;FMTTYPE=text/html:<p>Hier wird geschossen</p>
LAST-MODIFIED:20171111T113142Z
SEQUENCE:3381329
X-ACCESS:1
X-HITS:287
X-URL:https://schuetzenverein-heimsheim.de/index.php?option=com_dpcalendar&view=event&id=2&Itemid=260
X-COLOR:0303FF
X-SHOW-END-TIME:1
END:VEVENT
END:VCALENDAR